BEGIN:VCALENDAR
VERSION:2.0
PRODID:-//Little Eaton Parish Council//Meeting Calendar//EN
CALSCALE:GREGORIAN
METHOD:PUBLISH
BEGIN:VEVENT
UID:71588-20260325@littleeatonparishcouncil.gov.uk
DTSTAMP:20260422T085757Z
DTSTART;VALUE=DATE:20260325
DTEND;VALUE=DATE:20260326
SUMMARY:Council Meeting &#8211\\; 25th March 2026
DESCRIPTION:Full Council Meeting\nView details: https://littleeatonparishcouncil.gov.uk/meetings/monthly-meeting-25th-march-2026/
URL:https://littleeatonparishcouncil.gov.uk/meetings/monthly-meeting-25th-march-2026/
END:VEVENT
END:VCALENDAR
