BEGIN:VCALENDAR
VERSION:2.0
PRODID:-//Little Eaton Parish Council//Meeting Calendar//EN
CALSCALE:GREGORIAN
METHOD:PUBLISH
BEGIN:VEVENT
UID:71590-20260520@littleeatonparishcouncil.gov.uk
DTSTAMP:20260422T084936Z
DTSTART;VALUE=DATE:20260520
DTEND;VALUE=DATE:20260521
SUMMARY:Annual Parish Meeting &#8211\\; 20th May 2026
DESCRIPTION:Annual Parish Meeting Meeting\nView details: https://littleeatonparishcouncil.gov.uk/meetings/annual-parish-meeting-20th-may-2026/
URL:https://littleeatonparishcouncil.gov.uk/meetings/annual-parish-meeting-20th-may-2026/
END:VEVENT
END:VCALENDAR
