BEGIN:VCALENDAR
VERSION:2.0
PRODID:-//Little Eaton Parish Council//Meeting Calendar//EN
CALSCALE:GREGORIAN
METHOD:PUBLISH
BEGIN:VEVENT
UID:71595-20260923@littleeatonparishcouncil.gov.uk
DTSTAMP:20260421T081610Z
DTSTART;VALUE=DATE:20260923
DTEND;VALUE=DATE:20260924
SUMMARY:Council Meeting &#8211\\; 23rd September 2026
DESCRIPTION:Full Council Meeting\nView details: https://littleeatonparishcouncil.gov.uk/meetings/monthly-meeting-23rd-september-2026/
URL:https://littleeatonparishcouncil.gov.uk/meetings/monthly-meeting-23rd-september-2026/
END:VEVENT
END:VCALENDAR
