BEGIN:VCALENDAR
VERSION:2.0
PRODID:-//Little Eaton Parish Council//Meeting Calendar//EN
CALSCALE:GREGORIAN
METHOD:PUBLISH
BEGIN:VEVENT
UID:71596-20261028@littleeatonparishcouncil.gov.uk
DTSTAMP:20260422T093359Z
DTSTART;VALUE=DATE:20261028
DTEND;VALUE=DATE:20261029
SUMMARY:Council Meeting &#8211\\; 28th October
DESCRIPTION:Full Council Meeting\nView details: https://littleeatonparishcouncil.gov.uk/meetings/monthly-meeting-28th-october/
URL:https://littleeatonparishcouncil.gov.uk/meetings/monthly-meeting-28th-october/
END:VEVENT
END:VCALENDAR
